Package: iSEE Version: 2.21.1 Command: /home/biocbuild/bbs-3.22-bioc/R/bin/R CMD INSTALL iSEE StartedAt: 2025-10-24 15:34:21 -0400 (Fri, 24 Oct 2025) EndedAt: 2025-10-24 15:35:02 -0400 (Fri, 24 Oct 2025) EllapsedTime: 40.6 seconds RetCode: 0 Status: OK