Package: iPath Version: 1.15.0 Command: /home/biocbuild/bbs-3.22-bioc/R/bin/R CMD INSTALL iPath StartedAt: 2025-10-24 15:21:40 -0400 (Fri, 24 Oct 2025) EndedAt: 2025-10-24 15:22:05 -0400 (Fri, 24 Oct 2025) EllapsedTime: 24.7 seconds RetCode: 0 Status: OK