Package: iPath Version: 1.15.0 Command: /home/biocbuild/bbs-3.22-bioc/R/bin/R CMD build --keep-empty-dirs --no-resave-data --md5 iPath StartedAt: 2025-10-24 18:25:58 -0400 (Fri, 24 Oct 2025) EndedAt: 2025-10-24 18:26:30 -0400 (Fri, 24 Oct 2025) EllapsedTime: 32.0 seconds RetCode: 1 Status: ERROR PackageFile: None PackageFileSize: NA