Package: iNETgrate Version: 1.7.0 Command: /home/biocbuild/bbs-3.22-bioc/R/bin/R CMD INSTALL iNETgrate StartedAt: 2025-10-24 16:10:23 -0400 (Fri, 24 Oct 2025) EndedAt: 2025-10-24 16:11:24 -0400 (Fri, 24 Oct 2025) EllapsedTime: 60.9 seconds RetCode: 0 Status: OK