Package: iNETgrate Version: 1.7.0 Command: /Library/Frameworks/R.framework/Resources/bin/R CMD INSTALL iNETgrate StartedAt: 2025-10-24 15:58:09 -0400 (Fri, 24 Oct 2025) EndedAt: 2025-10-24 15:59:34 -0400 (Fri, 24 Oct 2025) EllapsedTime: 84.8 seconds RetCode: 0 Status: OK