Package: iNETgrate Version: 1.7.0 Command: /Library/Frameworks/R.framework/Resources/bin/R CMD build --keep-empty-dirs --no-resave-data iNETgrate StartedAt: 2025-10-24 17:30:27 -0400 (Fri, 24 Oct 2025) EndedAt: 2025-10-24 17:35:17 -0400 (Fri, 24 Oct 2025) EllapsedTime: 290.7 seconds RetCode: 0 Status: OK PackageFile: iNETgrate_1.7.0.tar.gz PackageFileSize: 3.978 MiB