Package: iNETgrate Version: 1.7.0 Command: /Library/Frameworks/R.framework/Resources/bin/R CMD INSTALL iNETgrate StartedAt: 2025-10-26 15:31:51 -0400 (Sun, 26 Oct 2025) EndedAt: 2025-10-26 15:32:16 -0400 (Sun, 26 Oct 2025) EllapsedTime: 24.5 seconds RetCode: 0 Status: OK