Package: iNETgrate Version: 1.7.0 Command: /Library/Frameworks/R.framework/Resources/bin/R CMD build --keep-empty-dirs --no-resave-data iNETgrate StartedAt: 2025-10-26 16:55:14 -0400 (Sun, 26 Oct 2025) EndedAt: 2025-10-26 16:56:39 -0400 (Sun, 26 Oct 2025) EllapsedTime: 84.9 seconds RetCode: 1 Status: ERROR PackageFile: None PackageFileSize: NA