Package: iModMix Version: 1.0.0 Command: /home/biocbuild/R/R/bin/R CMD INSTALL iModMix StartedAt: 2025-11-24 21:57:06 -0000 (Mon, 24 Nov 2025) EndedAt: 2025-11-24 21:57:14 -0000 (Mon, 24 Nov 2025) EllapsedTime: 8.5 seconds RetCode: 0 Status: OK