Package: iModMix Version: 0.99.3 Command: /home/biocbuild/bbs-3.22-bioc/R/bin/R CMD INSTALL iModMix StartedAt: 2025-10-24 15:54:59 -0400 (Fri, 24 Oct 2025) EndedAt: 2025-10-24 15:55:05 -0400 (Fri, 24 Oct 2025) EllapsedTime: 6.1 seconds RetCode: 0 Status: OK