Package: iModMix Version: 0.99.3 Command: /home/biocbuild/bbs-3.22-bioc/R/bin/R CMD check --install=check:iModMix.install-out.txt --library=/home/biocbuild/bbs-3.22-bioc/R/site-library --timings iModMix_0.99.3.tar.gz StartedAt: 2025-10-25 00:43:22 -0400 (Sat, 25 Oct 2025) EndedAt: 2025-10-25 00:44:38 -0400 (Sat, 25 Oct 2025) EllapsedTime: 76.1 seconds RetCode: 0 Status: OK CheckDir: iModMix.Rcheck Warnings: 0