Package: iModMix Version: 0.99.3 Command: /Library/Frameworks/R.framework/Resources/bin/R CMD INSTALL iModMix StartedAt: 2025-10-24 15:42:39 -0400 (Fri, 24 Oct 2025) EndedAt: 2025-10-24 15:42:49 -0400 (Fri, 24 Oct 2025) EllapsedTime: 9.9 seconds RetCode: 0 Status: OK