Package: iModMix Version: 0.99.3 Command: /Library/Frameworks/R.framework/Resources/bin/R CMD build --keep-empty-dirs --no-resave-data iModMix StartedAt: 2025-10-24 17:29:29 -0400 (Fri, 24 Oct 2025) EndedAt: 2025-10-24 17:30:59 -0400 (Fri, 24 Oct 2025) EllapsedTime: 89.3 seconds RetCode: 0 Status: OK PackageFile: iModMix_0.99.3.tar.gz PackageFileSize: 10.6 MiB