Package: iModMix Version: 0.99.3 Command: rm -rf iModMix.buildbin-libdir && mkdir iModMix.buildbin-libdir && /Users/biocbuild/BBS/utils/build-universal.sh iModMix_0.99.3.tar.gz /Library/Frameworks/R.framework/Resources/bin/R iModMix.buildbin-libdir StartedAt: 2025-10-25 01:45:38 -0400 (Sat, 25 Oct 2025) EndedAt: 2025-10-25 01:45:52 -0400 (Sat, 25 Oct 2025) EllapsedTime: 14.1 seconds RetCode: 0 Status: OK PackageFile: iModMix_0.99.3.tgz PackageFileSize: 10.77 MiB