Package: iModMix Version: 0.99.3 Command: /Library/Frameworks/R.framework/Resources/bin/R CMD INSTALL iModMix StartedAt: 2025-10-26 15:25:21 -0400 (Sun, 26 Oct 2025) EndedAt: 2025-10-26 15:25:24 -0400 (Sun, 26 Oct 2025) EllapsedTime: 3.1 seconds RetCode: 0 Status: OK