Package: iModMix Version: 0.99.3 Maintainer: Isis Narvaez-Bandera MaintainerEmail: isis.narvaez at upr.edu git_url: https://git.bioconductor.org/packages/iModMix git_branch: devel git_last_commit: 3e95f82 git_last_commit_date: 2025-10-10 15:52:43 -0400 (Fri, 10 Oct 2025)