Package: iGC Version: 1.39.0 Command: /home/biocbuild/bbs-3.22-bioc/R/bin/R CMD build --keep-empty-dirs --no-resave-data --md5 iGC StartedAt: 2025-10-24 18:21:13 -0400 (Fri, 24 Oct 2025) EndedAt: 2025-10-24 18:21:38 -0400 (Fri, 24 Oct 2025) EllapsedTime: 25.0 seconds RetCode: 0 Status: OK PackageFile: iGC_1.39.0.tar.gz PackageFileSize: 2.953 MiB