Package: iClusterPlus Version: 1.45.0 Command: /home/biocbuild/R/R/bin/R CMD INSTALL iClusterPlus StartedAt: 2025-10-23 20:16:31 -0000 (Thu, 23 Oct 2025) EndedAt: 2025-10-23 20:16:49 -0000 (Thu, 23 Oct 2025) EllapsedTime: 17.5 seconds RetCode: 1 Status: ERROR