Package: iClusterPlus Version: 1.45.0 Command: /home/biocbuild/R/R/bin/R CMD build --keep-empty-dirs --no-resave-data iClusterPlus StartedAt: 2025-10-21 00:32:51 -0000 (Tue, 21 Oct 2025) EndedAt: 2025-10-21 00:32:53 -0000 (Tue, 21 Oct 2025) EllapsedTime: 2.0 seconds RetCode: 1 Status: ERROR PackageFile: None PackageFileSize: NA