Package: iClusterPlus Version: 1.45.0 Command: /home/biocbuild/bbs-3.22-bioc/R/bin/R CMD check --install=check:iClusterPlus.install-out.txt --library=/home/biocbuild/bbs-3.22-bioc/R/site-library --timings iClusterPlus_1.45.0.tar.gz StartedAt: 2025-10-25 00:39:47 -0400 (Sat, 25 Oct 2025) EndedAt: 2025-10-25 00:41:03 -0400 (Sat, 25 Oct 2025) EllapsedTime: 75.1 seconds RetCode: 0 Status: OK CheckDir: iClusterPlus.Rcheck Warnings: 0