Package: iChip Version: 1.63.0 Command: /home/biocbuild/bbs-3.22-bioc/R/bin/R CMD INSTALL iChip StartedAt: 2025-10-27 15:04:59 -0400 (Mon, 27 Oct 2025) EndedAt: 2025-10-27 15:05:12 -0400 (Mon, 27 Oct 2025) EllapsedTime: 12.7 seconds RetCode: 0 Status: OK