Package: iCheck Version: 1.39.0 Command: /home/biocbuild/bbs-3.22-bioc/R/bin/R CMD INSTALL iCheck StartedAt: 2025-10-27 16:03:59 -0400 (Mon, 27 Oct 2025) EndedAt: 2025-10-27 16:04:44 -0400 (Mon, 27 Oct 2025) EllapsedTime: 44.8 seconds RetCode: 0 Status: OK