Package: iCheck Version: 1.40.0 Command: /Library/Frameworks/R.framework/Resources/bin/R CMD INSTALL iCheck StartedAt: 2025-11-03 15:32:35 -0500 (Mon, 03 Nov 2025) EndedAt: 2025-11-03 15:32:53 -0500 (Mon, 03 Nov 2025) EllapsedTime: 18.6 seconds RetCode: 0 Status: OK