Package: iCheck Version: 1.40.0 Command: /Library/Frameworks/R.framework/Resources/bin/R CMD build --keep-empty-dirs --no-resave-data iCheck StartedAt: 2025-11-03 16:43:47 -0500 (Mon, 03 Nov 2025) EndedAt: 2025-11-03 16:44:17 -0500 (Mon, 03 Nov 2025) EllapsedTime: 30.4 seconds RetCode: 0 Status: OK PackageFile: iCheck_1.40.0.tar.gz PackageFileSize: 559.7 KiB