Package: iCNV Version: 1.29.0 Command: /home/biocbuild/bbs-3.22-bioc/R/bin/R CMD INSTALL iCNV StartedAt: 2025-10-24 15:45:44 -0400 (Fri, 24 Oct 2025) EndedAt: 2025-10-24 15:46:18 -0400 (Fri, 24 Oct 2025) EllapsedTime: 33.4 seconds RetCode: 0 Status: OK