Package: iCARE Version: 1.37.0 Command: /home/biocbuild/bbs-3.22-bioc/R/bin/R CMD INSTALL iCARE StartedAt: 2025-10-24 15:18:24 -0400 (Fri, 24 Oct 2025) EndedAt: 2025-10-24 15:18:44 -0400 (Fri, 24 Oct 2025) EllapsedTime: 19.6 seconds RetCode: 0 Status: OK