Package: iBMQ Version: 1.49.0 Command: /home/biocbuild/bbs-3.22-bioc/R/bin/R CMD INSTALL iBMQ StartedAt: 2025-10-24 15:23:42 -0400 (Fri, 24 Oct 2025) EndedAt: 2025-10-24 15:23:51 -0400 (Fri, 24 Oct 2025) EllapsedTime: 9.0 seconds RetCode: 0 Status: OK