Package: hypergraph Version: 1.81.0 Command: /home/biocbuild/R/R/bin/R CMD build --keep-empty-dirs --no-resave-data hypergraph StartedAt: 2025-10-21 00:32:34 -0000 (Tue, 21 Oct 2025) EndedAt: 2025-10-21 00:32:35 -0000 (Tue, 21 Oct 2025) EllapsedTime: 1.0 seconds RetCode: 0 Status: OK PackageFile: hypergraph_1.81.0.tar.gz PackageFileSize: 8.267 KiB