Package: hypergraph Version: 1.81.0 Command: /home/biocbuild/bbs-3.22-bioc/R/bin/R CMD INSTALL hypergraph StartedAt: 2025-10-24 15:24:01 -0400 (Fri, 24 Oct 2025) EndedAt: 2025-10-24 15:24:06 -0400 (Fri, 24 Oct 2025) EllapsedTime: 4.1 seconds RetCode: 0 Status: OK