Package: hypergraph Version: 1.81.0 Command: /home/biocbuild/bbs-3.22-bioc/R/bin/R CMD check --install=check:hypergraph.install-out.txt --library=/home/biocbuild/bbs-3.22-bioc/R/site-library --timings hypergraph_1.81.0.tar.gz StartedAt: 2025-10-25 00:38:52 -0400 (Sat, 25 Oct 2025) EndedAt: 2025-10-25 00:39:16 -0400 (Sat, 25 Oct 2025) EllapsedTime: 24.0 seconds RetCode: 0 Status: OK CheckDir: hypergraph.Rcheck Warnings: 0