Package: hypergraph Version: 1.81.0 Command: /Library/Frameworks/R.framework/Resources/bin/R CMD INSTALL hypergraph StartedAt: 2025-10-24 15:23:07 -0400 (Fri, 24 Oct 2025) EndedAt: 2025-10-24 15:23:24 -0400 (Fri, 24 Oct 2025) EllapsedTime: 17.1 seconds RetCode: 0 Status: OK