Package: hypergraph Version: 1.81.0 Command: rm -rf hypergraph.buildbin-libdir && mkdir hypergraph.buildbin-libdir && /Users/biocbuild/BBS/utils/build-universal.sh hypergraph_1.81.0.tar.gz /Library/Frameworks/R.framework/Resources/bin/R hypergraph.buildbin-libdir StartedAt: 2025-10-25 01:45:12 -0400 (Sat, 25 Oct 2025) EndedAt: 2025-10-25 01:45:21 -0400 (Sat, 25 Oct 2025) EllapsedTime: 9.4 seconds RetCode: 0 Status: OK PackageFile: hypergraph_1.81.0.tgz PackageFileSize: 168.8 KiB