Package: hypergraph Version: 1.81.0 Command: /Library/Frameworks/R.framework/Resources/bin/R CMD INSTALL hypergraph StartedAt: 2025-10-26 15:07:34 -0400 (Sun, 26 Oct 2025) EndedAt: 2025-10-26 15:07:36 -0400 (Sun, 26 Oct 2025) EllapsedTime: 2.1 seconds RetCode: 0 Status: OK