Package: hyperdraw Version: 1.62.0 Command: /home/biocbuild/R/R/bin/R CMD INSTALL hyperdraw StartedAt: 2025-11-13 21:21:13 -0000 (Thu, 13 Nov 2025) EndedAt: 2025-11-13 21:21:20 -0000 (Thu, 13 Nov 2025) EllapsedTime: 6.9 seconds RetCode: 0 Status: OK