Package: hyperdraw Version: 1.61.0 Command: /home/biocbuild/bbs-3.22-bioc/R/bin/R CMD INSTALL hyperdraw StartedAt: 2025-10-24 15:25:24 -0400 (Fri, 24 Oct 2025) EndedAt: 2025-10-24 15:25:28 -0400 (Fri, 24 Oct 2025) EllapsedTime: 4.5 seconds RetCode: 0 Status: OK