Package: hyperdraw Version: 1.61.0 Command: rm -rf hyperdraw.buildbin-libdir && mkdir hyperdraw.buildbin-libdir && /Users/biocbuild/BBS/utils/build-universal.sh hyperdraw_1.61.0.tar.gz /Library/Frameworks/R.framework/Resources/bin/R hyperdraw.buildbin-libdir StartedAt: 2025-10-25 01:45:12 -0400 (Sat, 25 Oct 2025) EndedAt: 2025-10-25 01:45:24 -0400 (Sat, 25 Oct 2025) EllapsedTime: 11.8 seconds RetCode: 0 Status: OK PackageFile: hyperdraw_1.61.0.tgz PackageFileSize: 390 KiB