Package: hyperdraw Version: 1.61.0 Command: /Library/Frameworks/R.framework/Resources/bin/R CMD build --keep-empty-dirs --no-resave-data hyperdraw StartedAt: 2025-10-24 16:45:29 -0400 (Fri, 24 Oct 2025) EndedAt: 2025-10-24 16:45:35 -0400 (Fri, 24 Oct 2025) EllapsedTime: 6.1 seconds RetCode: 0 Status: OK PackageFile: hyperdraw_1.61.0.tar.gz PackageFileSize: 204.2 KiB