Package: hypeR Version: 2.8.0 Command: /home/biocbuild/bbs-3.22-bioc/R/bin/R CMD INSTALL hypeR StartedAt: 2025-11-02 15:15:19 -0500 (Sun, 02 Nov 2025) EndedAt: 2025-11-02 15:15:27 -0500 (Sun, 02 Nov 2025) EllapsedTime: 7.7 seconds RetCode: 1 Status: ERROR