Package: hypeR Version: 2.8.0 Command: /home/biocbuild/bbs-3.22-bioc/R/bin/R CMD build --keep-empty-dirs --no-resave-data --md5 hypeR StartedAt: 2025-11-03 18:11:49 -0500 (Mon, 03 Nov 2025) EndedAt: 2025-11-03 18:11:51 -0500 (Mon, 03 Nov 2025) EllapsedTime: 2.0 seconds RetCode: 1 Status: ERROR PackageFile: None PackageFileSize: NA