Package: hpar Version: 1.51.0 Command: /home/biocbuild/bbs-3.22-bioc/R/bin/R CMD INSTALL hpar StartedAt: 2025-10-27 15:30:20 -0400 (Mon, 27 Oct 2025) EndedAt: 2025-10-27 15:30:34 -0400 (Mon, 27 Oct 2025) EllapsedTime: 14.0 seconds RetCode: 0 Status: OK