Package: hmdbQuery Version: 1.29.0 Command: /home/biocbuild/bbs-3.22-bioc/R/bin/R CMD INSTALL hmdbQuery StartedAt: 2025-10-24 15:23:35 -0400 (Fri, 24 Oct 2025) EndedAt: 2025-10-24 15:23:40 -0400 (Fri, 24 Oct 2025) EllapsedTime: 5.3 seconds RetCode: 0 Status: OK