Package: hmdbQuery Version: 1.30.0 Command: /home/biocbuild/bbs-3.22-bioc/R/bin/R CMD check --install=check:hmdbQuery.install-out.txt --library=/home/biocbuild/bbs-3.22-bioc/R/site-library --timings hmdbQuery_1.30.0.tar.gz StartedAt: 2025-11-15 00:40:49 -0500 (Sat, 15 Nov 2025) EndedAt: 2025-11-15 00:41:56 -0500 (Sat, 15 Nov 2025) EllapsedTime: 67.1 seconds RetCode: 0 Status: OK CheckDir: hmdbQuery.Rcheck Warnings: 0