Package: hmdbQuery Version: 1.29.0 Command: /Library/Frameworks/R.framework/Resources/bin/R CMD INSTALL hmdbQuery StartedAt: 2025-10-24 15:09:50 -0400 (Fri, 24 Oct 2025) EndedAt: 2025-10-24 15:09:53 -0400 (Fri, 24 Oct 2025) EllapsedTime: 3.2 seconds RetCode: 0 Status: OK