Package: hmdbQuery Version: 1.29.0 Command: /Library/Frameworks/R.framework/Resources/bin/R CMD build --keep-empty-dirs --no-resave-data hmdbQuery StartedAt: 2025-10-24 16:44:39 -0400 (Fri, 24 Oct 2025) EndedAt: 2025-10-24 16:44:50 -0400 (Fri, 24 Oct 2025) EllapsedTime: 11.1 seconds RetCode: 0 Status: OK PackageFile: hmdbQuery_1.29.0.tar.gz PackageFileSize: 749.2 KiB