Package: hmdbQuery Version: 1.29.0 Command: rm -rf hmdbQuery.buildbin-libdir && mkdir hmdbQuery.buildbin-libdir && /Users/biocbuild/BBS/utils/build-universal.sh hmdbQuery_1.29.0.tar.gz /Library/Frameworks/R.framework/Resources/bin/R hmdbQuery.buildbin-libdir StartedAt: 2025-10-24 23:06:12 -0400 (Fri, 24 Oct 2025) EndedAt: 2025-10-24 23:06:15 -0400 (Fri, 24 Oct 2025) EllapsedTime: 3.1 seconds RetCode: 0 Status: OK PackageFile: hmdbQuery_1.29.0.tgz PackageFileSize: 888.2 KiB