Package: hipathia Version: 3.9.0 Command: /home/biocbuild/bbs-3.22-bioc/R/bin/R CMD INSTALL hipathia StartedAt: 2025-10-27 15:40:34 -0400 (Mon, 27 Oct 2025) EndedAt: 2025-10-27 15:41:10 -0400 (Mon, 27 Oct 2025) EllapsedTime: 36.4 seconds RetCode: 0 Status: OK