Package: hipathia Version: 3.9.0 Command: /home/biocbuild/bbs-3.22-bioc/R/bin/R CMD build --keep-empty-dirs --no-resave-data --md5 hipathia StartedAt: 2025-10-27 18:08:33 -0400 (Mon, 27 Oct 2025) EndedAt: 2025-10-27 18:10:09 -0400 (Mon, 27 Oct 2025) EllapsedTime: 96.1 seconds RetCode: 1 Status: ERROR PackageFile: None PackageFileSize: NA