Package: hierinf Version: 1.27.0 Command: /home/biocbuild/bbs-3.22-bioc/R/bin/R CMD INSTALL hierinf StartedAt: 2025-10-24 15:16:25 -0400 (Fri, 24 Oct 2025) EndedAt: 2025-10-24 15:16:57 -0400 (Fri, 24 Oct 2025) EllapsedTime: 31.2 seconds RetCode: 0 Status: OK