Package: hierinf Version: 1.27.0 Command: /Library/Frameworks/R.framework/Resources/bin/R CMD INSTALL hierinf StartedAt: 2025-10-24 15:06:06 -0400 (Fri, 24 Oct 2025) EndedAt: 2025-10-24 15:06:21 -0400 (Fri, 24 Oct 2025) EllapsedTime: 14.4 seconds RetCode: 0 Status: OK