Package: hierinf Version: 1.28.0 Maintainer: Claude Renaux MaintainerEmail: renaux at stat.math.ethz.ch git_url: https://git.bioconductor.org/packages/hierinf git_branch: RELEASE_3_22 git_last_commit: 2e6b0a4 git_last_commit_date: 2025-10-29 10:46:45 -0500 (Wed, 29 Oct 2025)